BEGIN:VCALENDAR
PRODID:-//eluceo/ical//2.0/EN
VERSION:2.0
CALSCALE:GREGORIAN
BEGIN:VEVENT
UID:hey.bayern.694828.6556160
DTSTAMP:20260423T094825Z
SUMMARY:Berglauf Thumersbach
DTSTART;TZID=Europe/Berlin:20260613T100000
DTEND;TZID=Europe/Berlin:20260613T180000
LOCATION:Erlberg 85\, 5700 Zell am See\, Österreich
URL;VALUE=URI:https://hey-schweiz.com/events/694828
END:VEVENT
END:VCALENDAR
