BEGIN:VCALENDAR
PRODID:-//eluceo/ical//2.0/EN
VERSION:2.0
CALSCALE:GREGORIAN
BEGIN:VEVENT
UID:hey.bayern.694831.6556165
DTSTAMP:20260423T060237Z
SUMMARY:Botanisches Latein für Gärtner:innen und Pflanzenfreunde
DTSTART;TZID=Europe/Berlin:20260519T193000
DTEND;TZID=Europe/Berlin:20260519T213000
LOCATION:Riedholzstraße 15a\, 4910 Ried im Innkreis\, Österreich
GEO:48.213845;13.470928
X-APPLE-STRUCTURED-LOCATION;VALUE=URI;X-ADDRESS=Riedholzstraße 15a\, 4910 
 Ried im Innkreis\, Österreich;X-APPLE-RADIUS=49;X-TITLE=:geo:48.213845,13
 .470928
URL;VALUE=URI:https://hey-schweiz.com/events/694831
END:VEVENT
END:VCALENDAR
