BEGIN:VCALENDAR
PRODID:-//eluceo/ical//2.0/EN
VERSION:2.0
CALSCALE:GREGORIAN
BEGIN:VEVENT
UID:hey.bayern.694841.6556261
DTSTAMP:20260423T024950Z
SUMMARY:Elektro Guzzi
DTSTART;TZID=Europe/Berlin:20260425T170000
DTEND;TZID=Europe/Berlin:20260425T235900
LOCATION:Palmstraße 4\, 5280 Braunau am Inn\, Österreich
GEO:48.258695;13.036121
X-APPLE-STRUCTURED-LOCATION;VALUE=URI;X-ADDRESS=Palmstraße 4\, 5280 Brauna
 u am Inn\, Österreich;X-APPLE-RADIUS=49;X-TITLE=:geo:48.258695,13.036121
URL;VALUE=URI:https://hey-schweiz.com/events/694841
END:VEVENT
END:VCALENDAR
