BEGIN:VCALENDAR
PRODID:-//eluceo/ical//2.0/EN
VERSION:2.0
CALSCALE:GREGORIAN
BEGIN:VEVENT
UID:hey.bayern.694842.6556263
DTSTAMP:20260422T234338Z
SUMMARY:Eröffnung Nationalpark Radweg NP1
DTSTART;TZID=Europe/Berlin:20260509T140000
DTEND;TZID=Europe/Berlin:20260510T140000
LOCATION:Am Zicksee\, 7161 St. Andrä am Zicksee\, Österreich
GEO:47.790118;16.911669
X-APPLE-STRUCTURED-LOCATION;VALUE=URI;X-ADDRESS=Am Zicksee\, 7161 St. Andr
 ä am Zicksee\, Österreich;X-APPLE-RADIUS=49;X-TITLE=:geo:47.790118,16.91
 1669
URL;VALUE=URI:https://hey-schweiz.com/events/694842
END:VEVENT
END:VCALENDAR
