BEGIN:VCALENDAR
PRODID:-//eluceo/ical//2.0/EN
VERSION:2.0
CALSCALE:GREGORIAN
BEGIN:VEVENT
UID:hey.bayern.694845.6556266
DTSTAMP:20260422T234553Z
SUMMARY:Eurovision Song Contest Public Viewing
DTSTART;TZID=Europe/Berlin:20260516T163000
DTEND;TZID=Europe/Berlin:20260517T163000
LOCATION:Hauptplatz 3-5\, 7400 Oberwart\, Österreich
GEO:47.288135;16.212705
X-APPLE-STRUCTURED-LOCATION;VALUE=URI;X-ADDRESS=Hauptplatz 3-5\, 7400 Oberw
 art\, Österreich;X-APPLE-RADIUS=49;X-TITLE=:geo:47.288135,16.212705
URL;VALUE=URI:https://hey-schweiz.com/events/694845
END:VEVENT
END:VCALENDAR
