BEGIN:VCALENDAR
PRODID:-//eluceo/ical//2.0/EN
VERSION:2.0
CALSCALE:GREGORIAN
BEGIN:VEVENT
UID:hey.bayern.694846.6556267
DTSTAMP:20260423T044848Z
SUMMARY:FAMILIENGOTTESDIENST (Muttertag und Kreuzsonntag) mit AGAPE Kamerad
 schaftsbund
DTSTART;TZID=Europe/Berlin:20260510T083000
DTEND;TZID=Europe/Berlin:20260511T083000
LOCATION:St. Peter 16\, 9863 Rennweg\, Österreich
GEO:47.027686;13.595514
X-APPLE-STRUCTURED-LOCATION;VALUE=URI;X-ADDRESS=St. Peter 16\, 9863 Rennweg
 \, Österreich;X-APPLE-RADIUS=49;X-TITLE=:geo:47.027686,13.595514
URL;VALUE=URI:https://hey-schweiz.com/events/694846
END:VEVENT
END:VCALENDAR
