BEGIN:VCALENDAR
PRODID:-//eluceo/ical//2.0/EN
VERSION:2.0
CALSCALE:GREGORIAN
BEGIN:VEVENT
UID:hey.bayern.694850.6556299
DTSTAMP:20260423T062104Z
SUMMARY:Flohmarkt im Thalerium
DTSTART;TZID=Europe/Berlin:20260502T090000
DTEND;TZID=Europe/Berlin:20260503T090000
LOCATION:Pamperlallee 3\, 9201 Krumpendorf am Wörthersee\, Österreich
GEO:46.622976;14.219548
X-APPLE-STRUCTURED-LOCATION;VALUE=URI;X-ADDRESS=Pamperlallee 3\, 9201 Krump
 endorf am Wörthersee\, Österreich;X-APPLE-RADIUS=49;X-TITLE=:geo:46.6229
 76,14.219548
URL;VALUE=URI:https://hey-schweiz.com/events/694850
END:VEVENT
END:VCALENDAR
