BEGIN:VCALENDAR
PRODID:-//eluceo/ical//2.0/EN
VERSION:2.0
CALSCALE:GREGORIAN
BEGIN:VEVENT
UID:hey.bayern.694852.6556333
DTSTAMP:20260423T054610Z
SUMMARY:Fuschlsee Open Air
DTSTART;TZID=Europe/Berlin:20260905T180000
DTEND;TZID=Europe/Berlin:20260906T020000
LOCATION:Au-Straße 21\, 5330 Fuschl am See\, Österreich
GEO:47.794469;13.290188
X-APPLE-STRUCTURED-LOCATION;VALUE=URI;X-ADDRESS=Au-Straße 21\, 5330 Fuschl
  am See\, Österreich;X-APPLE-RADIUS=49;X-TITLE=:geo:47.794469,13.290188
URL;VALUE=URI:https://hey-schweiz.com/events/694852
END:VEVENT
END:VCALENDAR
