BEGIN:VCALENDAR
PRODID:-//eluceo/ical//2.0/EN
VERSION:2.0
CALSCALE:GREGORIAN
BEGIN:VEVENT
UID:hey.bayern.694854.6556339
DTSTAMP:20260423T044847Z
SUMMARY:Führung "Villa Rustica" in Löffelbach
DTSTART;TZID=Europe/Berlin:20260813T160000
DTEND;TZID=Europe/Berlin:20260813T235959
LOCATION:Schildbach 200\, 8230 Hartberg Umgebung\, Österreich
GEO:47.279316;15.939003
X-APPLE-STRUCTURED-LOCATION;VALUE=URI;X-ADDRESS=Schildbach 200\, 8230 Hartb
 erg Umgebung\, Österreich;X-APPLE-RADIUS=49;X-TITLE=:geo:47.279316,15.939
 003
URL;VALUE=URI:https://hey-schweiz.com/events/694854
END:VEVENT
END:VCALENDAR
