BEGIN:VCALENDAR
PRODID:-//eluceo/ical//2.0/EN
VERSION:2.0
CALSCALE:GREGORIAN
BEGIN:VEVENT
UID:hey.bayern.694857.6556367
DTSTAMP:20260423T033211Z
SUMMARY:Führung zu den 1.200 Bäumen am St. Barbara Friedhof
DTSTART;TZID=Europe/Berlin:20260508T140000
DTEND;TZID=Europe/Berlin:20260508T235900
LOCATION:Friedhofstraße 1\, 4020 Linz\, Österreich
GEO:48.294368;14.299658
X-APPLE-STRUCTURED-LOCATION;VALUE=URI;X-ADDRESS=Friedhofstraße 1\, 4020 Li
 nz\, Österreich;X-APPLE-RADIUS=49;X-TITLE=:geo:48.294368,14.299658
URL;VALUE=URI:https://hey-schweiz.com/events/694857
END:VEVENT
END:VCALENDAR
