BEGIN:VCALENDAR
PRODID:-//eluceo/ical//2.0/EN
VERSION:2.0
CALSCALE:GREGORIAN
BEGIN:VEVENT
UID:hey.bayern.694862.6556427
DTSTAMP:20260423T010921Z
SUMMARY:Gesellige Neusiedler Weinverkostung - Weinwerk Burgenland Special
DTSTART;TZID=Europe/Berlin:20260713T190000
DTEND;TZID=Europe/Berlin:20260713T210000
LOCATION:Obere Hauptstraße 31\, 7100 Neusiedl am See\, Österreich
GEO:47.947871;16.844831
X-APPLE-STRUCTURED-LOCATION;VALUE=URI;X-ADDRESS=Obere Hauptstraße 31\, 710
 0 Neusiedl am See\, Österreich;X-APPLE-RADIUS=49;X-TITLE=:geo:47.947871,1
 6.844831
URL;VALUE=URI:https://hey-schweiz.com/events/694862
END:VEVENT
END:VCALENDAR
