BEGIN:VCALENDAR
PRODID:-//eluceo/ical//2.0/EN
VERSION:2.0
CALSCALE:GREGORIAN
BEGIN:VEVENT
UID:hey.bayern.694863.6556428
DTSTAMP:20260423T010924Z
SUMMARY:Gesellige Neusiedler Weinverkostung Alex & Maria Kopppitsch (im Wei
 nwerk)
DTSTART;TZID=Europe/Berlin:20260817T190000
DTEND;TZID=Europe/Berlin:20260817T210000
LOCATION:Obere Hauptstraße 31\, 7100 Neusiedl am See\, Österreich
GEO:47.949450;16.841706
X-APPLE-STRUCTURED-LOCATION;VALUE=URI;X-ADDRESS=Obere Hauptstraße 31\, 710
 0 Neusiedl am See\, Österreich;X-APPLE-RADIUS=49;X-TITLE=:geo:47.949450,1
 6.841706
URL;VALUE=URI:https://hey-schweiz.com/events/694863
END:VEVENT
END:VCALENDAR
