BEGIN:VCALENDAR
PRODID:-//eluceo/ical//2.0/EN
VERSION:2.0
CALSCALE:GREGORIAN
BEGIN:VEVENT
UID:hey.bayern.694864.6556429
DTSTAMP:20260423T010929Z
SUMMARY:Gesellige Neusiedler Weinverkostung bei Weinbau Müllner
DTSTART;TZID=Europe/Berlin:20260720T190000
DTEND;TZID=Europe/Berlin:20260720T210000
LOCATION:Obere Hauptstrasse 9-11\, 7100 Neusiedl am See\, Österreich
GEO:47.947871;16.844831
X-APPLE-STRUCTURED-LOCATION;VALUE=URI;X-ADDRESS=Obere Hauptstrasse 9-11\, 7
 100 Neusiedl am See\, Österreich;X-APPLE-RADIUS=49;X-TITLE=:geo:47.947871
 ,16.844831
URL;VALUE=URI:https://hey-schweiz.com/events/694864
END:VEVENT
END:VCALENDAR
