BEGIN:VCALENDAR
PRODID:-//eluceo/ical//2.0/EN
VERSION:2.0
CALSCALE:GREGORIAN
BEGIN:VEVENT
UID:hey.bayern.694865.6556430
DTSTAMP:20260423T010928Z
SUMMARY:Gesellige Neusiedler Weinverkostung bei Weingut Christian Haider
DTSTART;TZID=Europe/Berlin:20260727T190000
DTEND;TZID=Europe/Berlin:20260727T210000
LOCATION:Obere Hauptstraße 62\, 7100 Neusiedl am See\, Österreich
GEO:47.947871;16.844831
X-APPLE-STRUCTURED-LOCATION;VALUE=URI;X-ADDRESS=Obere Hauptstraße 62\, 710
 0 Neusiedl am See\, Österreich;X-APPLE-RADIUS=49;X-TITLE=:geo:47.947871,1
 6.844831
URL;VALUE=URI:https://hey-schweiz.com/events/694865
END:VEVENT
END:VCALENDAR
