BEGIN:VCALENDAR
PRODID:-//eluceo/ical//2.0/EN
VERSION:2.0
CALSCALE:GREGORIAN
BEGIN:VEVENT
UID:hey.bayern.694866.6556431
DTSTAMP:20260423T010921Z
SUMMARY:Gesellige Neusiedler Weinverkostung bei Weingut Christoph Hess
DTSTART;TZID=Europe/Berlin:20260831T190000
DTEND;TZID=Europe/Berlin:20260831T210000
LOCATION:Hauptplatz 35\, 7100 Neusiedl am See\, Österreich
GEO:47.949488;16.841425
X-APPLE-STRUCTURED-LOCATION;VALUE=URI;X-ADDRESS=Hauptplatz 35\, 7100 Neusie
 dl am See\, Österreich;X-APPLE-RADIUS=49;X-TITLE=:geo:47.949488,16.841425
URL;VALUE=URI:https://hey-schweiz.com/events/694866
END:VEVENT
END:VCALENDAR
