BEGIN:VCALENDAR
PRODID:-//eluceo/ical//2.0/EN
VERSION:2.0
CALSCALE:GREGORIAN
BEGIN:VEVENT
UID:hey.bayern.694867.6556432
DTSTAMP:20260423T010925Z
SUMMARY:Gesellige Neusiedler Weinverkostung bei Weingut Fischbach
DTSTART;TZID=Europe/Berlin:20260803T190000
DTEND;TZID=Europe/Berlin:20260803T210000
LOCATION:Obere Hauptstraße 53\, 7100 Neusiedl am See\, Österreich
GEO:47.951161;16.837825
X-APPLE-STRUCTURED-LOCATION;VALUE=URI;X-ADDRESS=Obere Hauptstraße 53\, 710
 0 Neusiedl am See\, Österreich;X-APPLE-RADIUS=49;X-TITLE=:geo:47.951161,1
 6.837825
URL;VALUE=URI:https://hey-schweiz.com/events/694867
END:VEVENT
END:VCALENDAR
