BEGIN:VCALENDAR
PRODID:-//eluceo/ical//2.0/EN
VERSION:2.0
CALSCALE:GREGORIAN
BEGIN:VEVENT
UID:hey.bayern.694868.6556433
DTSTAMP:20260423T010929Z
SUMMARY:Gesellige Neusiedler Weinverkostung bei Weingut Haider HTH
DTSTART;TZID=Europe/Berlin:20260824T190000
DTEND;TZID=Europe/Berlin:20260824T210000
LOCATION:Franz Liszt Gasse 15\, 7100 Neusiedl am See\, Österreich
GEO:47.947871;16.844831
X-APPLE-STRUCTURED-LOCATION;VALUE=URI;X-ADDRESS=Franz Liszt Gasse 15\, 7100
  Neusiedl am See\, Österreich;X-APPLE-RADIUS=49;X-TITLE=:geo:47.947871,16
 .844831
URL;VALUE=URI:https://hey-schweiz.com/events/694868
END:VEVENT
END:VCALENDAR
