BEGIN:VCALENDAR
PRODID:-//eluceo/ical//2.0/EN
VERSION:2.0
CALSCALE:GREGORIAN
BEGIN:VEVENT
UID:hey.bayern.694869.6556434
DTSTAMP:20260423T010920Z
SUMMARY:Gesellige Neusiedler Weinverkostung bei Weingut Königshofer
DTSTART;TZID=Europe/Berlin:20260810T190000
DTEND;TZID=Europe/Berlin:20260810T210000
LOCATION:Untere Hauptstraße 34\, 7100 Neusiedl am See\, Österreich
GEO:47.946664;16.846314
X-APPLE-STRUCTURED-LOCATION;VALUE=URI;X-ADDRESS=Untere Hauptstraße 34\, 71
 00 Neusiedl am See\, Österreich;X-APPLE-RADIUS=49;X-TITLE=:geo:47.946664,
 16.846314
URL;VALUE=URI:https://hey-schweiz.com/events/694869
END:VEVENT
END:VCALENDAR
