BEGIN:VCALENDAR
PRODID:-//eluceo/ical//2.0/EN
VERSION:2.0
CALSCALE:GREGORIAN
BEGIN:VEVENT
UID:hey.bayern.694870.6556435
DTSTAMP:20260423T010922Z
SUMMARY:Gesellige Neusiedler Weinverkostung bei Weingut Preschitz
DTSTART;TZID=Europe/Berlin:20260706T190000
DTEND;TZID=Europe/Berlin:20260706T210000
LOCATION:Kalvarienbergstraße 29\, 7100 Neusiedl am See\, Österreich
GEO:47.947871;16.844831
X-APPLE-STRUCTURED-LOCATION;VALUE=URI;X-ADDRESS=Kalvarienbergstraße 29\, 7
 100 Neusiedl am See\, Österreich;X-APPLE-RADIUS=49;X-TITLE=:geo:47.947871
 ,16.844831
URL;VALUE=URI:https://hey-schweiz.com/events/694870
END:VEVENT
END:VCALENDAR
