BEGIN:VCALENDAR
PRODID:-//eluceo/ical//2.0/EN
VERSION:2.0
CALSCALE:GREGORIAN
BEGIN:VEVENT
UID:hey.bayern.694871.6556446
DTSTAMP:20260423T075233Z
SUMMARY:Golfschnupperkurs
DTSTART;TZID=Europe/Berlin:20260706T170000
DTEND;TZID=Europe/Berlin:20260707T170000
LOCATION:Am Golfplatz 1\, 9872 Millstatt am See\, Österreich
URL;VALUE=URI:https://hey-schweiz.com/events/694871
END:VEVENT
END:VCALENDAR
