BEGIN:VCALENDAR
PRODID:-//eluceo/ical//2.0/EN
VERSION:2.0
CALSCALE:GREGORIAN
BEGIN:VEVENT
UID:hey.bayern.694884.6556614
DTSTAMP:20260423T192443Z
SUMMARY:Kaiserzug
DTSTART;TZID=Europe/Berlin:20260913T141500
DTEND;TZID=Europe/Berlin:20260913T235959
LOCATION:Bahnhofviertel 4a\, 8850 Murau\, Österreich
GEO:47.108978;14.174390
X-APPLE-STRUCTURED-LOCATION;VALUE=URI;X-ADDRESS=Bahnhofviertel 4a\, 8850 Mu
 rau\, Österreich;X-APPLE-RADIUS=49;X-TITLE=:geo:47.108978,14.174390
URL;VALUE=URI:https://hey-schweiz.com/events/694884
END:VEVENT
END:VCALENDAR
