BEGIN:VCALENDAR
PRODID:-//eluceo/ical//2.0/EN
VERSION:2.0
CALSCALE:GREGORIAN
BEGIN:VEVENT
UID:hey.bayern.694887.6556622
DTSTAMP:20260423T105226Z
SUMMARY:Kindersegelkur
DTSTART;TZID=Europe/Berlin:20260515T100000
DTEND;TZID=Europe/Berlin:20260516T100000
LOCATION:Seestraße 69b\, 9872 Millstatt am See\, Österreich
URL;VALUE=URI:https://hey-schweiz.com/events/694887
END:VEVENT
END:VCALENDAR
