BEGIN:VCALENDAR
PRODID:-//eluceo/ical//2.0/EN
VERSION:2.0
CALSCALE:GREGORIAN
BEGIN:VEVENT
UID:hey.bayern.694896.6556699
DTSTAMP:20260423T120556Z
SUMMARY:Ladies' Walk and Run
DTSTART;TZID=Europe/Berlin:20260509T100000
DTEND;TZID=Europe/Berlin:20260509T120000
URL;VALUE=URI:https://hey-schweiz.com/events/694896
END:VEVENT
END:VCALENDAR
