BEGIN:VCALENDAR
PRODID:-//eluceo/ical//2.0/EN
VERSION:2.0
CALSCALE:GREGORIAN
BEGIN:VEVENT
UID:hey.bayern.694901.6556721
DTSTAMP:20260423T075231Z
SUMMARY:Livemusik mit "The Strings"
DTSTART;TZID=Europe/Berlin:20260529T223000
DTEND;TZID=Europe/Berlin:20260530T003000
LOCATION:Meyerbeerweg 1\, 5640 Bad Gastein\, Österreich
GEO:47.114307;13.132802
X-APPLE-STRUCTURED-LOCATION;VALUE=URI;X-ADDRESS=Meyerbeerweg 1\, 5640 Bad G
 astein\, Österreich;X-APPLE-RADIUS=49;X-TITLE=:geo:47.114307,13.132802
URL;VALUE=URI:https://hey-schweiz.com/events/694901
END:VEVENT
END:VCALENDAR
