BEGIN:VCALENDAR
PRODID:-//eluceo/ical//2.0/EN
VERSION:2.0
CALSCALE:GREGORIAN
BEGIN:VEVENT
UID:hey.bayern.694905.6556728
DTSTAMP:20260423T111019Z
SUMMARY:Maibaumfest der JB/LJ Buchberg
DTSTART;TZID=Europe/Berlin:20260430T190000
DTEND;TZID=Europe/Berlin:20260430T235900
URL;VALUE=URI:https://hey-schweiz.com/events/694905
END:VEVENT
END:VCALENDAR
