BEGIN:VCALENDAR
PRODID:-//eluceo/ical//2.0/EN
VERSION:2.0
CALSCALE:GREGORIAN
BEGIN:VEVENT
UID:hey.bayern.694909.6556732
DTSTAMP:20260423T192444Z
SUMMARY:Manuel Brunner live on Stage
DTSTART;TZID=Europe/Berlin:20260514T160000
DTEND;TZID=Europe/Berlin:20260514T180000
LOCATION:Kurpark Velden\, 9220 Velden am Wörther See\, Österreich
GEO:46.613553;14.042307
X-APPLE-STRUCTURED-LOCATION;VALUE=URI;X-ADDRESS=Kurpark Velden\, 9220 Velde
 n am Wörther See\, Österreich;X-APPLE-RADIUS=49;X-TITLE=:geo:46.613553,1
 4.042307
URL;VALUE=URI:https://hey-schweiz.com/events/694909
END:VEVENT
END:VCALENDAR
