BEGIN:VCALENDAR
PRODID:-//eluceo/ical//2.0/EN
VERSION:2.0
CALSCALE:GREGORIAN
BEGIN:VEVENT
UID:hey.bayern.694911.6556739
DTSTAMP:20260423T075226Z
SUMMARY:Mein 1. Fang - Die Tradition des Netzfischens
DTSTART;TZID=Europe/Berlin:20260615T163000
DTEND;TZID=Europe/Berlin:20260616T163000
LOCATION:Seestraße 69b\, 9872 Millstatt am See\, Österreich
GEO:46.801857;13.576043
X-APPLE-STRUCTURED-LOCATION;VALUE=URI;X-ADDRESS=Seestraße 69b\, 9872 Mills
 tatt am See\, Österreich;X-APPLE-RADIUS=49;X-TITLE=:geo:46.801857,13.5760
 43
URL;VALUE=URI:https://hey-schweiz.com/events/694911
END:VEVENT
END:VCALENDAR
