BEGIN:VCALENDAR
PRODID:-//eluceo/ical//2.0/EN
VERSION:2.0
CALSCALE:GREGORIAN
BEGIN:VEVENT
UID:hey.bayern.694916.6556776
DTSTAMP:20260423T105231Z
SUMMARY:Mountain Vibes Dayparty
DTSTART;TZID=Europe/Berlin:20260516T140000
DTEND;TZID=Europe/Berlin:20260516T200000
LOCATION:Bergstation Rosnerköpfl\, 5453 Werfenweng\, Österreich
GEO:47.453480;13.259731
X-APPLE-STRUCTURED-LOCATION;VALUE=URI;X-ADDRESS=Bergstation Rosnerköpfl\, 
 5453 Werfenweng\, Österreich;X-APPLE-RADIUS=49;X-TITLE=:geo:47.453480,13.
 259731
URL;VALUE=URI:https://hey-schweiz.com/events/694916
END:VEVENT
END:VCALENDAR
