BEGIN:VCALENDAR
PRODID:-//eluceo/ical//2.0/EN
VERSION:2.0
CALSCALE:GREGORIAN
BEGIN:VEVENT
UID:hey.bayern.694919.6556779
DTSTAMP:20260423T135720Z
SUMMARY:Musi Skiwoche 2027
DTSTART;TZID=Europe/Berlin:20270120T120000
DTEND;TZID=Europe/Berlin:20270121T120000
URL;VALUE=URI:https://hey-schweiz.com/events/694919
END:VEVENT
END:VCALENDAR
