BEGIN:VCALENDAR
PRODID:-//eluceo/ical//2.0/EN
VERSION:2.0
CALSCALE:GREGORIAN
BEGIN:VEVENT
UID:hey.bayern.694921.6556790
DTSTAMP:20260423T075236Z
SUMMARY:Narzissenkorso
DTSTART;TZID=Europe/Berlin:20260531T090000
DTEND;TZID=Europe/Berlin:20260531T150000
LOCATION:8992 Altaussee\, Österreich
GEO:47.610072;13.782135
X-APPLE-STRUCTURED-LOCATION;VALUE=URI;X-ADDRESS=8992 Altaussee\, Österreic
 h;X-APPLE-RADIUS=49;X-TITLE=:geo:47.610072,13.782135
URL;VALUE=URI:https://hey-schweiz.com/events/694921
END:VEVENT
END:VCALENDAR
