BEGIN:VCALENDAR
PRODID:-//eluceo/ical//2.0/EN
VERSION:2.0
CALSCALE:GREGORIAN
BEGIN:VEVENT
UID:hey.bayern.694922.6556830
DTSTAMP:20260423T024011Z
SUMMARY:Naturerlebnis Radtour komfort
DTSTART;TZID=Europe/Berlin:20260502T090000
DTEND;TZID=Europe/Berlin:20260503T090000
LOCATION:Bahnstraße 500\, 7222 Rohrbach bei Mattersburg\, Österreich
GEO:47.716557;16.434546
X-APPLE-STRUCTURED-LOCATION;VALUE=URI;X-ADDRESS=Bahnstraße 500\, 7222 Rohr
 bach bei Mattersburg\, Österreich;X-APPLE-RADIUS=49;X-TITLE=:geo:47.71655
 7,16.434546
URL;VALUE=URI:https://hey-schweiz.com/events/694922
END:VEVENT
END:VCALENDAR
