BEGIN:VCALENDAR
PRODID:-//eluceo/ical//2.0/EN
VERSION:2.0
CALSCALE:GREGORIAN
BEGIN:VEVENT
UID:hey.bayern.694924.6556850
DTSTAMP:20260423T192439Z
SUMMARY:Nitsch | Rainer | Staudacher
DTSTART;TZID=Europe/Berlin:20260523T110000
DTEND;TZID=Europe/Berlin:20260523T235959
LOCATION:Erhardplatz 3\, 5020 Salzburg\, Österreich
URL;VALUE=URI:https://hey-schweiz.com/events/694924
END:VEVENT
END:VCALENDAR
