BEGIN:VCALENDAR
PRODID:-//eluceo/ical//2.0/EN
VERSION:2.0
CALSCALE:GREGORIAN
BEGIN:VEVENT
UID:hey.bayern.694930.6556900
DTSTAMP:20260423T010945Z
SUMMARY:Pama Energie Gravel 2026
DTSTART;TZID=Europe/Berlin:20260530T093000
DTEND;TZID=Europe/Berlin:20260531T093000
LOCATION:Heidesiedlung 12\, 2422 Pama\, Österreich
GEO:48.043926;17.033090
X-APPLE-STRUCTURED-LOCATION;VALUE=URI;X-ADDRESS=Heidesiedlung 12\, 2422 Pam
 a\, Österreich;X-APPLE-RADIUS=49;X-TITLE=:geo:48.043926,17.033090
URL;VALUE=URI:https://hey-schweiz.com/events/694930
END:VEVENT
END:VCALENDAR
