BEGIN:VCALENDAR
PRODID:-//eluceo/ical//2.0/EN
VERSION:2.0
CALSCALE:GREGORIAN
BEGIN:VEVENT
UID:hey.bayern.694937.6556909
DTSTAMP:20260423T111019Z
SUMMARY:Reconnect-Realign-Retreat
DTSTART;TZID=Europe/Berlin:20260828T163000
DTEND;TZID=Europe/Berlin:20260830T163000
LOCATION:Großreifling 71\, 8931 Landl\, Österreich
GEO:47.665437;14.714065
X-APPLE-STRUCTURED-LOCATION;VALUE=URI;X-ADDRESS=Großreifling 71\, 8931 Lan
 dl\, Österreich;X-APPLE-RADIUS=49;X-TITLE=:geo:47.665437,14.714065
URL;VALUE=URI:https://hey-schweiz.com/events/694937
END:VEVENT
END:VCALENDAR
