BEGIN:VCALENDAR
PRODID:-//eluceo/ical//2.0/EN
VERSION:2.0
CALSCALE:GREGORIAN
BEGIN:VEVENT
UID:hey.bayern.694944.6556986
DTSTAMP:20260423T044848Z
SUMMARY:Steirischer-Volksmusik-Stammtisch
DTSTART;TZID=Europe/Berlin:20260609T170000
DTEND;TZID=Europe/Berlin:20260609T190000
LOCATION:Triebental 42\, 8785 Hohentauern\, Österreich
GEO:47.398642;14.571891
X-APPLE-STRUCTURED-LOCATION;VALUE=URI;X-ADDRESS=Triebental 42\, 8785 Hohent
 auern\, Österreich;X-APPLE-RADIUS=49;X-TITLE=:geo:47.398642,14.571891
URL;VALUE=URI:https://hey-schweiz.com/events/694944
END:VEVENT
END:VCALENDAR
