BEGIN:VCALENDAR
PRODID:-//eluceo/ical//2.0/EN
VERSION:2.0
CALSCALE:GREGORIAN
BEGIN:VEVENT
UID:hey.bayern.694948.6557003
DTSTAMP:20260423T032311Z
SUMMARY:Tanzlabor 60+\, ein Experimentierraum für Tanz und künstlerischen
  Ausdruck
DTSTART;TZID=Europe/Berlin:20260812T090000
DTEND;TZID=Europe/Berlin:20260812T113000
LOCATION:Riedholzstraße 15a\, 4910 Ried im Innkreis\, Österreich
GEO:48.213845;13.470928
X-APPLE-STRUCTURED-LOCATION;VALUE=URI;X-ADDRESS=Riedholzstraße 15a\, 4910 
 Ried im Innkreis\, Österreich;X-APPLE-RADIUS=49;X-TITLE=:geo:48.213845,13
 .470928
URL;VALUE=URI:https://hey-schweiz.com/events/694948
END:VEVENT
END:VCALENDAR
