BEGIN:VCALENDAR
PRODID:-//eluceo/ical//2.0/EN
VERSION:2.0
CALSCALE:GREGORIAN
BEGIN:VEVENT
UID:hey.bayern.694957.6557025
DTSTAMP:20260423T105259Z
SUMMARY:Vollmond Special-Yoga am Reßnig Badesee mit Martina Wrulich
DTSTART;TZID=Europe/Berlin:20260828T193000
DTEND;TZID=Europe/Berlin:20260829T193000
LOCATION:Angersbichl 88\, 9161 Maria Rain\, Österreich
GEO:46.544434;14.285095
X-APPLE-STRUCTURED-LOCATION;VALUE=URI;X-ADDRESS=Angersbichl 88\, 9161 Maria
  Rain\, Österreich;X-APPLE-RADIUS=49;X-TITLE=:geo:46.544434,14.285095
URL;VALUE=URI:https://hey-schweiz.com/events/694957
END:VEVENT
END:VCALENDAR
