BEGIN:VCALENDAR
PRODID:-//eluceo/ical//2.0/EN
VERSION:2.0
CALSCALE:GREGORIAN
BEGIN:VEVENT
UID:hey.bayern.694999.6557266
DTSTAMP:20260425T024954Z
SUMMARY:13 Jahre\, 88 Tasten. Spielfreude in Perfektion
DTSTART;TZID=Europe/Berlin:20260502T190000
DTEND;TZID=Europe/Berlin:20260502T235959
LOCATION:Schwarzstraße 28\, 5020 Salzburg\, Österreich
GEO:47.803661;13.041417
X-APPLE-STRUCTURED-LOCATION;VALUE=URI;X-ADDRESS=Schwarzstraße 28\, 5020 Sa
 lzburg\, Österreich;X-APPLE-RADIUS=49;X-TITLE=:geo:47.803661,13.041417
URL;VALUE=URI:https://hey-schweiz.com/events/694999
END:VEVENT
END:VCALENDAR
