BEGIN:VCALENDAR
PRODID:-//eluceo/ical//2.0/EN
VERSION:2.0
CALSCALE:GREGORIAN
BEGIN:VEVENT
UID:hey.bayern.695015.6557327
DTSTAMP:20260425T024806Z
SUMMARY:Ausstellung: Nicole Bottet & Karl Korab
DTSTART;TZID=Europe/Berlin:20260516T100000
DTEND;TZID=Europe/Berlin:20260516T130000
LOCATION:Sigmund-Haffner-Gasse 16\, 5020 Salzburg\, Österreich
GEO:47.798436;13.043784
X-APPLE-STRUCTURED-LOCATION;VALUE=URI;X-ADDRESS=Sigmund-Haffner-Gasse 16\, 
 5020 Salzburg\, Österreich;X-APPLE-RADIUS=49;X-TITLE=:geo:47.798436,13.04
 3784
URL;VALUE=URI:https://hey-schweiz.com/events/695015
END:VEVENT
END:VCALENDAR
